BEGIN:VCALENDAR
VERSION:2.0
PRODID:-//Healing with Spirit with Laura - ECPv6.15.20//NONSGML v1.0//EN
CALSCALE:GREGORIAN
METHOD:PUBLISH
X-WR-CALNAME:Healing with Spirit with Laura
X-ORIGINAL-URL:https://laurahealingwithspirit.com
X-WR-CALDESC:Events for Healing with Spirit with Laura
REFRESH-INTERVAL;VALUE=DURATION:PT1H
X-Robots-Tag:noindex
X-PUBLISHED-TTL:PT1H
BEGIN:VTIMEZONE
TZID:UTC
BEGIN:STANDARD
TZOFFSETFROM:+0000
TZOFFSETTO:+0000
TZNAME:UTC
DTSTART:20180101T000000
END:STANDARD
END:VTIMEZONE
BEGIN:VEVENT
DTSTART;TZID=UTC:20191006T183000
DTEND;TZID=UTC:20191006T200000
DTSTAMP:20260420T095825
CREATED:20180220T150559Z
LAST-MODIFIED:20190719T163915Z
UID:994-1570386600-1570392000@laurahealingwithspirit.com
SUMMARY:SALEM\, MA: Guest Speaker and Spiritual Medium
DESCRIPTION:I am honored to have been asked to return as guest speaker and spiritual medium at the First Spiritualist Church of Salem in Salem\, MA. \nOne of my favorite things to do is to give back to the community and serve Spirit/Source. I look forward to this day of inspiration and healing. \nOpen to the Public. \nService: 6:30pm \n  \nPer First Spiritualist Church of Salem: \nThe regular Sunday Service begins immediately following the Healing Service at 6:30pm … generally at 7 p.m. It includes song\, prayer\, an inspirational talk given by a guest speaker\, and spirit greetings by the guest medium (usually\, but not always\, the same individual as the speaker. \nFor more information about services and events\, please visit their website.
URL:https://laurahealingwithspirit.com/event/salem-ma-guest-speaker-and-spiritual-medium/
LOCATION:First Spiritualist Church of Salem\, 34 Warren St\, Salem\, Ma
CATEGORIES:Guest Appearances/Events,Spiritual Enrichment
ATTACH;FMTTYPE=image/jpeg:https://laurahealingwithspirit.com/wp-content/uploads/2018/02/18951511_10155026776264342_1463304019285151085_n.jpg
END:VEVENT
BEGIN:VEVENT
DTSTART;TZID=UTC:20191014T180000
DTEND;TZID=UTC:20191014T190000
DTSTAMP:20260420T095825
CREATED:20180212T154629Z
LAST-MODIFIED:20190719T164728Z
UID:735-1571076000-1571079600@laurahealingwithspirit.com
SUMMARY:DATE CHANGE: Reiki Vibrational Healing Meditation w/ The Tibetan Singing Bowls
DESCRIPTION:Join us for an evening of healing and relaxation and discover how simple Meditation combined with a Reiki healing and precepts as well as the vibratory sounds of Tibetan Singing Bowls can bring about a powerful positive quantum shift in your life as well as stimulate a profound relaxation response that bypasses the brain and targets the cellular tissues. \nThe combined form of meditation is a powerful healing and spiritual experience that can bring about relaxation\, clairvoyance\, increased healing\, enhanced awareness\, greater ability toward visualization\, reduce stress\, balance your energy and aid you in reaching goals. \nWe chose to do this just prior to our reiki share which begins at 7:15pm. You may come to one or join us for both. \nWant to learn more?\nVisit our Tibetan Bowl Healing Page \nCheck out our blog post:   Medical Study of the Effects of Singing Bowl Sound Meditation on Mood\, Tension\, and Well-Being \n  \n \nSee what others are saying about this class:\n“I have attended\, one of Laura’s Reiki meditation and attunment evenings and came away feeling like a new person. The energy was like nothing I have ever experienced before. Thank you\, Laura! I am truly grateful\, you are so very gifted!” \nSee more testimonials\, Click here  \nFOR THE LATEST UPDATES\, visit our Facebook Events Page \nPlease arrive 5-10min prior to start so there will not be any interruptions during meditation. \nTo pre-register: Text RSVP to  857-880-0365 no later than 24hrs prior to class for $20 rate or Contact us for more information. \n\n                \n                        \n                            Contact Us\n                             \n                        \n                        URLThis field is for validation purposes and should be left unchanged.This field is hidden when viewing the formName\n                            \n                            \n                                                    \n                                                    First\n                                                \n                            \n                            \n                                                    \n                                                    Last\n                                                \n                            \n                        Name*Phone*Email*\n                            \n                        MessageArea of interestArea of interest\n								\n								Meditation\n							\n								\n								Reiki\n							\n								\n								Medium Events\n							\n								\n								Spiritual Coaching\n							\n								\n								Past Life Regression\n							\n								\n								Other Healing Modalities\n							\n								\n								Mediumship Classes\n							\n								\n								Stress Reduction Programs\n							What's 2+5?*CAPTCHA\n          \n            \n            \n            \n            \n            \n            \n            \n            \n            \n            \n            \n            \n            \n        \n                        Δ \n                        \n \n 
URL:https://laurahealingwithspirit.com/event/reiki-vibrational-healing-meditation-2019-10-21/
LOCATION:Healing with Spirit\, 185 Lincoln St\, Suite 300\, Hingham\, MA\, 02043\, United States
CATEGORIES:Meditation
ATTACH;FMTTYPE=image/jpeg:https://laurahealingwithspirit.com/wp-content/uploads/2017/12/LauraJoseph_Website_Interior_v1_02.jpg
ORGANIZER;CN="Laura Bonetzky-Gaffney":MAILTO:http://laurahealingwithspirit.com/contact/
END:VEVENT
BEGIN:VEVENT
DTSTART;TZID=UTC:20191014T191500
DTEND;TZID=UTC:20191014T203000
DTSTAMP:20260420T095825
CREATED:20180405T181242Z
LAST-MODIFIED:20190719T164832Z
UID:1510-1571080500-1571085000@laurahealingwithspirit.com
SUMMARY:DATE CHANGE: Open Reiki Share
DESCRIPTION:This event is open to the general public and to reiki practitioners of any lineage who wish to share. \nSuffering from depression\, anxiety\, arthritis\, trauma\, pain\, cancer\, chronic stress\, headaches\, chronic illness? Never experienced Reiki before? Please keep reading to learn more about the benefits of reiki and what a Reiki share is. \nWhat is Reiki?\nReiki is a Japanese complementary alternative mind body medicine therapy that works with the human body’s own bioenergy field. It uses vibrational\, or subtle energy\, administered most commonly by a light touch of the hands to assist the body’s ability to heal itself. \nReiki has gained acceptance and popularity over the years and is widely used and accepted as an effective therapeutic treatment in many medical offices and hospitals across the country. \nAs time goes on\, there are more and more medical studies coming out on the efficacy of Reiki as a viable alternative treatment option especially in the areas of acute hospital care\, hospice\, pre-op and post-op\, psychotherapy\, stress\, and trauma. It is also used not as a substitute\, but in conjunction with other conventional medicine treatment options. \nWhat is a Reiki Share? \nReiki Shares are gatherings of Reiki practitioners to practice Reiki as a group. Some Reiki circles are exclusive\, open only to trained Reiki practitioners. An exclusive Reiki Circle is a gathering where practitioners can let their hair down a bit. These circles are meant as occasions to socialize with other Reiki healers\, support each other’s paths as healers\, and to exchange Reiki treatments with one another. \nOpen Reiki Shares are invitational types of gatherings which allow the general public to come and experience Reiki in a group setting. Public circles are mainly intended to bring awareness to Reiki and to help educate anyone who is curious about learning about Reiki. These gatherings also help to promote Reiki practitioners as well as the benefits of reiki healing in the area. \nOur mission with these shares is to offer people greater knowledge of and access to Reiki\, a complementary healing practice whose primary benefits include relaxation and stress reduction. Through sharing the gift of Reiki\, we hope to empower others in their journey as they seek balance and healing in their daily lives. \nCOST: By Donation\nSuggested donation $10 \n*** RSVP’s requested. **** Dates and times subject to change.\nTO RSVP:  \n                \n                        \n                            Contact Us\n                        \n                        PhoneThis field is for validation purposes and should be left unchanged.This field is hidden when viewing the formName\n                            \n                            \n                                                    \n                                                    First\n                                                \n                            \n                            \n                                                    \n                                                    Last\n                                                \n                            \n                        Name*Phone*Email*\n                            \n                        MessageArea of interestArea of interest\n								\n								Meditation\n							\n								\n								Reiki\n							\n								\n								Medium Events\n							\n								\n								Spiritual Coaching\n							\n								\n								Past Life Regression\n							\n								\n								Other Healing Modalities\n							\n								\n								Mediumship Classes\n							\n								\n								Stress Reduction Programs\n							What's 2+5?*CAPTCHA\n          \n            \n            \n            \n            \n            \n            \n            \n            \n            \n            \n            \n            \n            \n        \n                        Δ
URL:https://laurahealingwithspirit.com/event/open-reiki-share-3-2019-10-21/
LOCATION:Healing with Spirit\, 185 Lincoln St\, Suite 300\, Hingham\, MA\, 02043\, United States
CATEGORIES:Reiki Classes
ATTACH;FMTTYPE=image/jpeg:https://laurahealingwithspirit.com/wp-content/uploads/2018/01/20161203_161307.jpg
END:VEVENT
BEGIN:VEVENT
DTSTART;TZID=UTC:20191015T180000
DTEND;TZID=UTC:20191015T200000
DTSTAMP:20260420T095825
CREATED:20191001T002458Z
LAST-MODIFIED:20191001T002458Z
UID:2109-1571162400-1571169600@laurahealingwithspirit.com
SUMMARY:FALMOUTH: Meditation/Stress Reduction
DESCRIPTION:Have you ever gone to your physician while not well only to be told “it is just stress\, go home & relax?”  \nThe challenge is if you knew how to relax to begin with\, you would not be at your doctor’s office seeking help. Right?  \nMany people feel they are spinning their wheels\, not getting better & searching for answers with no feeling of end in sight. There is a direct connection between stress and different diseases.  \nCome join instructor Laura Joseph to learn more. \nHeld on 10/15 at Lawrence School: Tues – 6-8 pm – 1 week $49 \nREGISTRATION & CLASS INFORMATION\nClick here for details and registration through The Falmouth Community Schools.
URL:https://laurahealingwithspirit.com/event/falmouth-meditation-stress-reduction/
LOCATION:Falmouth Community Schools\, 113 Lakeview Avenue\, Falmouth\, Ma\, 02540
CATEGORIES:Guest Appearances/Events,Meditation
ATTACH;FMTTYPE=image/jpeg:https://laurahealingwithspirit.com/wp-content/uploads/2019/10/meditation_1569889370.jpg
ORGANIZER;CN="Falmouth Community Schools":MAILTO:falmouthnightschool@falmouth.k12.ma.us
END:VEVENT
BEGIN:VEVENT
DTSTART;TZID=UTC:20191016T080000
DTEND;TZID=UTC:20191024T170000
DTSTAMP:20260420T095825
CREATED:20190719T164357Z
LAST-MODIFIED:20191002T191632Z
UID:2053-1571212800-1571936400@laurahealingwithspirit.com
SUMMARY:CLOSED For Training
DESCRIPTION:I apologize for any inconvenience. My travels are crucial in order for me to be the best I can be of service to you and others. How well I maintain my vessel affects the work that I do. Thank you for your support and understanding. \nIf you are seeking to book a private session with me\, you may do so online by clicking here. \nIf you wish to book me for a private/public event\, speaking engagement\, workshop\, etc\, please contact me here.
URL:https://laurahealingwithspirit.com/event/closed-for-training-2/
LOCATION:MA
END:VEVENT
BEGIN:VEVENT
DTSTART;TZID=UTC:20191027T143000
DTEND;TZID=UTC:20191027T173000
DTSTAMP:20260420T095825
CREATED:20180213T154631Z
LAST-MODIFIED:20191002T190328Z
UID:868-1572186600-1572197400@laurahealingwithspirit.com
SUMMARY:Reiju Kai For Jikiden Reiki Practitioners + Potluck Social - QUINCY\, MA
DESCRIPTION:Reiju Kai’s provide an opportunity for are for Jikiden Reiki Practitioners to expand their reiki experience and training.   This includes receiving a Reiju again from a Jikiden Reiki approved teacher. While it is not necessary to receive it more than the number of times given in training\, it is still beneficial. \nThe day will include some bonding\, networking\, as well as the opportunity to ask questions. \nA typical Reiju Kai includes the following: \n\nReiju (from all teachers present)\nAny news or announcements\nAbility to ask questions\nReview\nPractice Kekko\nExchange Reiki treatments\nHealthy snack provided. Feel free to bring a snack to share with the group.\n\nWe will end the day with a potluck social dinner/BBQ after Reiju Kai \nFor more information about Reiju Kai events\, click here. \nFor more information about Jikiden Reiki Training\, click here \nPre-Requisite: These Reiju Kai’s are only open to people certified in Jikiden Reiki. People with Jikiden Reiki certificates are welcome to attend meetings organised by any Jikiden Reiki Teacher / Assistant Teacher. \nPlease contact Laura to Register and reserve your spot.
URL:https://laurahealingwithspirit.com/event/reiju-kai-for-jikiden-reiki-practitioners-2019-04-13-2019-08-10/
LOCATION:Healing with Spirit\, 185 Lincoln St\, Suite 300\, Hingham\, MA\, 02043\, United States
CATEGORIES:Reiki Classes
ATTACH;FMTTYPE=image/jpeg:https://laurahealingwithspirit.com/wp-content/uploads/2018/02/15380824_1189311281163675_2084706442063820036_n.jpg
END:VEVENT
END:VCALENDAR