BEGIN:VCALENDAR
VERSION:2.0
PRODID:-//Healing with Spirit with Laura - ECPv6.15.20//NONSGML v1.0//EN
CALSCALE:GREGORIAN
METHOD:PUBLISH
X-WR-CALNAME:Healing with Spirit with Laura
X-ORIGINAL-URL:https://laurahealingwithspirit.com
X-WR-CALDESC:Events for Healing with Spirit with Laura
REFRESH-INTERVAL;VALUE=DURATION:PT1H
X-Robots-Tag:noindex
X-PUBLISHED-TTL:PT1H
BEGIN:VTIMEZONE
TZID:UTC
BEGIN:STANDARD
TZOFFSETFROM:+0000
TZOFFSETTO:+0000
TZNAME:UTC
DTSTART:20250101T000000
END:STANDARD
END:VTIMEZONE
BEGIN:VEVENT
DTSTART;TZID=UTC:20260329T100000
DTEND;TZID=UTC:20260329T120000
DTSTAMP:20260422T150854
CREATED:20260128T181814Z
LAST-MODIFIED:20260307T140033Z
UID:5337-1774778400-1774785600@laurahealingwithspirit.com
SUMMARY:Make Your Life A Living Prayer With Rosanne Romiglio Ashley
DESCRIPTION:Join us for an intimate gathering with Rosanne Romiglio-Ashley\, author\, artist\, speaker\, and teacher\, as she shares her lived journey\, ancestral teachings\, and the wisdom carried through her work. \nRosanne walks the path of her ancestral lineage\, bridging the seen and unseen\, the personal and the collective. Her work is rooted in her heritage of Blackfoot\, Wolastoqiyik (Maliseet)\, and Mi’kmaq descent\, interwoven with French Canadian and Italian ancestry. Through story\, reflection\, and lived experience\, she invites us into a deeper relationship with spirit\, remembrance\, and devotion as a way of life. \nTwo years ago\, Rosanne received a poem word for word\, which she believes was communicated to her by her ancestors in spirit. That transmission became her first book\, Journey of a Red Soul. Writing under the name of her great great grandmother\, Marie Dion\, Rosanne honors a lineage shaped by resilience\, survival\, and the painful history of Native families who were forced to hide their identity to protect their children from residential schools. \nDuring this gathering\, Rosanne will share the story behind her writing\, her teachings\, and the experiences that have shaped her spiritual path\, including her guided journey to return a sacred object of her people\, chronicled in her book Returning What’s Sacred. This is an invitation to listen deeply\, reflect\, and explore what it means to live your life as a prayer. \nEach participant will receive a copy of Rosanne’s book as part of the experience. \nInvestment: $75Includes the gathering and a copy of the book \nRegister Here on Eventbrite with a credit card \nContact Laura directly if you want to pay cash \nThis is a space for those who feel called to ancestral wisdom\, living spirituality\, and the quiet power of remembering who we are. \nLearn more about Rosanne at FourWindsOneBreath.com and MarieDion.com
URL:https://laurahealingwithspirit.com/event/make-your-life-a-living-prayer-with-rosanne-romiglio-ashley/
LOCATION:MA
CATEGORIES:Guest Appearances/Events,Spiritual Enrichment
ATTACH;FMTTYPE=image/png:https://laurahealingwithspirit.com/wp-content/uploads/2026/01/Medicine-Drum-Banner.png
END:VEVENT
END:VCALENDAR