BEGIN:VCALENDAR
VERSION:2.0
PRODID:-//Healing with Spirit with Laura - ECPv6.15.20//NONSGML v1.0//EN
CALSCALE:GREGORIAN
METHOD:PUBLISH
X-WR-CALNAME:Healing with Spirit with Laura
X-ORIGINAL-URL:https://laurahealingwithspirit.com
X-WR-CALDESC:Events for Healing with Spirit with Laura
REFRESH-INTERVAL;VALUE=DURATION:PT1H
X-Robots-Tag:noindex
X-PUBLISHED-TTL:PT1H
BEGIN:VTIMEZONE
TZID:UTC
BEGIN:STANDARD
TZOFFSETFROM:+0000
TZOFFSETTO:+0000
TZNAME:UTC
DTSTART:20180101T000000
END:STANDARD
END:VTIMEZONE
BEGIN:VEVENT
DTSTART;TZID=UTC:20191015T180000
DTEND;TZID=UTC:20191015T200000
DTSTAMP:20260424T093532
CREATED:20191001T002458Z
LAST-MODIFIED:20191001T002458Z
UID:2109-1571162400-1571169600@laurahealingwithspirit.com
SUMMARY:FALMOUTH: Meditation/Stress Reduction
DESCRIPTION:Have you ever gone to your physician while not well only to be told “it is just stress\, go home & relax?”  \nThe challenge is if you knew how to relax to begin with\, you would not be at your doctor’s office seeking help. Right?  \nMany people feel they are spinning their wheels\, not getting better & searching for answers with no feeling of end in sight. There is a direct connection between stress and different diseases.  \nCome join instructor Laura Joseph to learn more. \nHeld on 10/15 at Lawrence School: Tues – 6-8 pm – 1 week $49 \nREGISTRATION & CLASS INFORMATION\nClick here for details and registration through The Falmouth Community Schools.
URL:https://laurahealingwithspirit.com/event/falmouth-meditation-stress-reduction/
LOCATION:Falmouth Community Schools\, 113 Lakeview Avenue\, Falmouth\, Ma\, 02540
CATEGORIES:Guest Appearances/Events,Meditation
ATTACH;FMTTYPE=image/jpeg:https://laurahealingwithspirit.com/wp-content/uploads/2019/10/meditation_1569889370.jpg
ORGANIZER;CN="Falmouth Community Schools":MAILTO:falmouthnightschool@falmouth.k12.ma.us
END:VEVENT
END:VCALENDAR