BEGIN:VCALENDAR
VERSION:2.0
PRODID:-//Healing with Spirit with Laura - ECPv6.15.20//NONSGML v1.0//EN
CALSCALE:GREGORIAN
METHOD:PUBLISH
X-ORIGINAL-URL:https://laurahealingwithspirit.com
X-WR-CALDESC:Events for Healing with Spirit with Laura
REFRESH-INTERVAL;VALUE=DURATION:PT1H
X-Robots-Tag:noindex
X-PUBLISHED-TTL:PT1H
BEGIN:VTIMEZONE
TZID:UTC
BEGIN:STANDARD
TZOFFSETFROM:+0000
TZOFFSETTO:+0000
TZNAME:UTC
DTSTART:20180101T000000
END:STANDARD
END:VTIMEZONE
BEGIN:VEVENT
DTSTART;TZID=UTC:20190920T080000
DTEND;TZID=UTC:20190922T170000
DTSTAMP:20260420T142010
CREATED:20190719T164542Z
LAST-MODIFIED:20190719T164550Z
UID:2054-1568966400-1569171600@laurahealingwithspirit.com
SUMMARY:CLOSED
DESCRIPTION:
URL:https://laurahealingwithspirit.com/event/closed-3/
LOCATION:MA
END:VEVENT
END:VCALENDAR